BEGIN:VCALENDAR
VERSION:2.0
PRODID:-//Alliance Française de Los Angeles - ECPv6.15.9//NONSGML v1.0//EN
CALSCALE:GREGORIAN
METHOD:PUBLISH
X-WR-CALNAME:Alliance Française de Los Angeles
X-ORIGINAL-URL:https://www.afdela.org
X-WR-CALDESC:Events for Alliance Française de Los Angeles
REFRESH-INTERVAL;VALUE=DURATION:PT1H
X-Robots-Tag:noindex
X-PUBLISHED-TTL:PT1H
BEGIN:VTIMEZONE
TZID:America/Los_Angeles
BEGIN:DAYLIGHT
TZOFFSETFROM:-0800
TZOFFSETTO:-0700
TZNAME:PDT
DTSTART:20250309T100000
END:DAYLIGHT
BEGIN:STANDARD
TZOFFSETFROM:-0700
TZOFFSETTO:-0800
TZNAME:PST
DTSTART:20251102T090000
END:STANDARD
BEGIN:DAYLIGHT
TZOFFSETFROM:-0800
TZOFFSETTO:-0700
TZNAME:PDT
DTSTART:20260308T100000
END:DAYLIGHT
BEGIN:STANDARD
TZOFFSETFROM:-0700
TZOFFSETTO:-0800
TZNAME:PST
DTSTART:20261101T090000
END:STANDARD
BEGIN:DAYLIGHT
TZOFFSETFROM:-0800
TZOFFSETTO:-0700
TZNAME:PDT
DTSTART:20270314T100000
END:DAYLIGHT
BEGIN:STANDARD
TZOFFSETFROM:-0700
TZOFFSETTO:-0800
TZNAME:PST
DTSTART:20271107T090000
END:STANDARD
END:VTIMEZONE
BEGIN:VEVENT
DTSTART;TZID=America/Los_Angeles:20260423T183000
DTEND;TZID=America/Los_Angeles:20260423T200000
DTSTAMP:20260419T113627
CREATED:20260310T034347Z
LAST-MODIFIED:20260402T023144Z
UID:10531-1776969000-1776974400@www.afdela.org
SUMMARY:Crafting Culinary Excellence with a Le Cordon Bleu chef
DESCRIPTION:TICKETS: https://anc.apm.activecommunities.com/alliancefrancaisela/activity/search/detail/9056?onlineSiteId=0&from_original_cui=true \nJoin us for Crafting Culinary Excellence: A Conversation with a Le Cordon Bleu Chef\, an exclusive opportunity to gain insight into the artistry\, discipline\, and professional journey behind one of the world’s most respected culinary traditions. \nChef Sebastian Rast – Cuisine Instructor at Le Cordon Bleu London. A chef with extensive experience in fine dining kitchens\, including Michelin star establishments. \nMatthieu Longuère – Wine Development Manager at Le Cordon Bleu London. Named Best Sommelier in the UK in 2000\, with experience across several top restaurants\, including Michelin star venues. \nExcite your taste buds with an assortment of charcuterie and wine as you learn about the art of food and wine pairings and the magic that happens when the two are combined. \nCome for the conversation\, stay for the flavors\, and connect with fellow food lovers in an intimate setting. \nAn evening of insight\, inspiration\, and unforgettable tastes awaits. \nTickets at afdela.org \n\n\nPricing:\n\n$40 for members\n$45 for non-members\n\n\n\n\nActivity meeting dates\nThursday April 23rd From 6:30 pm – 8:00 pm
URL:https://www.afdela.org/event/crafting-culinary-excellence-with-a-le-cordon-bleu-chef/
LOCATION:Alliance Francaise de Los Angeles
CATEGORIES:Cultural Events
ATTACH;FMTTYPE=image/png:https://www.afdela.org/wp-content/uploads/2026/03/4.png
ORGANIZER;CN="Alliance Fran%C3%A7aise de Los Angeles":MAILTO:admin@afdela.org
END:VEVENT
END:VCALENDAR