BEGIN:VCALENDAR
VERSION:2.0
PRODID:-//Alliance Française de Los Angeles - ECPv6.15.9//NONSGML v1.0//EN
CALSCALE:GREGORIAN
METHOD:PUBLISH
X-ORIGINAL-URL:https://www.afdela.org
X-WR-CALDESC:Events for Alliance Française de Los Angeles
REFRESH-INTERVAL;VALUE=DURATION:PT1H
X-Robots-Tag:noindex
X-PUBLISHED-TTL:PT1H
BEGIN:VTIMEZONE
TZID:America/Los_Angeles
BEGIN:DAYLIGHT
TZOFFSETFROM:-0800
TZOFFSETTO:-0700
TZNAME:PDT
DTSTART:20240310T100000
END:DAYLIGHT
BEGIN:STANDARD
TZOFFSETFROM:-0700
TZOFFSETTO:-0800
TZNAME:PST
DTSTART:20241103T090000
END:STANDARD
BEGIN:DAYLIGHT
TZOFFSETFROM:-0800
TZOFFSETTO:-0700
TZNAME:PDT
DTSTART:20250309T100000
END:DAYLIGHT
BEGIN:STANDARD
TZOFFSETFROM:-0700
TZOFFSETTO:-0800
TZNAME:PST
DTSTART:20251102T090000
END:STANDARD
BEGIN:DAYLIGHT
TZOFFSETFROM:-0800
TZOFFSETTO:-0700
TZNAME:PDT
DTSTART:20260308T100000
END:DAYLIGHT
BEGIN:STANDARD
TZOFFSETFROM:-0700
TZOFFSETTO:-0800
TZNAME:PST
DTSTART:20261101T090000
END:STANDARD
BEGIN:DAYLIGHT
TZOFFSETFROM:-0800
TZOFFSETTO:-0700
TZNAME:PDT
DTSTART:20270314T100000
END:DAYLIGHT
BEGIN:STANDARD
TZOFFSETFROM:-0700
TZOFFSETTO:-0800
TZNAME:PST
DTSTART:20271107T090000
END:STANDARD
END:VTIMEZONE
BEGIN:VEVENT
DTSTART;VALUE=DATE:20251103
DTEND;VALUE=DATE:20251104
DTSTAMP:20260419T195349
CREATED:20250922T055156Z
LAST-MODIFIED:20250922T055156Z
UID:10314-1762128000-1762214399@www.afdela.org
SUMMARY:NETFLIX SERIES SOLEIL NOIR [UNDER A DARK SUN]
DESCRIPTION:NETFLIX SERIES SOLEIL NOIR [UNDER A DARK SUN] \n6-WEEKS ONLINE THEMATIC CLASS : \nwith Véronique Courtois \nJoin us to discuss the series Soleil Noir a 6 episode series featuring Isabelle Adjani. \nParticipants will be expected to watch one episode before class and answer some questions about the episode. This class will focus on conversational & written skills. \nMondays: November 3rd\, 10th\, 17th & 24th; December 1st and 8th\, 2025 at 11 am to 12:30 pm. \nAdvanced level & above \n  \nActivity meeting dates\nFrom November 3rd through December 8th\, 2025\, 11 am to 12:30 pm.
URL:https://www.afdela.org/event/netflix-series-soleil-noir-under-a-dark-sun/
CATEGORIES:Classes,Cultural Events,Workshops
ATTACH;FMTTYPE=image/jpeg:https://www.afdela.org/wp-content/uploads/2025/09/SOleil-Noir.jpg
ORGANIZER;CN="Alliance Fran%C3%A7aise de Los Angeles":MAILTO:admin@afdela.org
END:VEVENT
BEGIN:VEVENT
DTSTART;VALUE=DATE:20251113
DTEND;VALUE=DATE:20251114
DTSTAMP:20260419T195349
CREATED:20250922T055301Z
LAST-MODIFIED:20250922T055301Z
UID:10316-1762992000-1763078399@www.afdela.org
SUMMARY:NETFLIX FILM [I'M NOT AN EASY MAN]
DESCRIPTION:NETFLIX FILM [I’M NOT AN EASY MAN] \nSINGLE CLASS ON NOVEMBER 13\, 2025 11:00 AM – 12:30 PM : \nwith Véronique Courtois \nJoin us to discuss the film Je ne suis pas un homme facile. \nParticipants are expected to watch the movie before class and answer some questions about the film. This class will focus on conversational & written skills. \nThursday November 13th \nAdvanced level & above \n$45.00 / $30.00 for members \n  \nActivity meeting dates\nThursday November 13\, 2025\, 11 am to 12:30 pm
URL:https://www.afdela.org/event/netflix-film-im-not-an-easy-man/
CATEGORIES:Cultural Events,Workshops
ATTACH;FMTTYPE=image/jpeg:https://www.afdela.org/wp-content/uploads/2025/09/Je-ne-suis-pas-un-homme-facile.jpg
ORGANIZER;CN="Alliance Fran%C3%A7aise de Los Angeles":MAILTO:admin@afdela.org
END:VEVENT
BEGIN:VEVENT
DTSTART;TZID=America/Los_Angeles:20251113T183000
DTEND;TZID=America/Los_Angeles:20251113T203000
DTSTAMP:20260419T195349
CREATED:20251103T035609Z
LAST-MODIFIED:20251103T035609Z
UID:10332-1763058600-1763065800@www.afdela.org
SUMMARY:Sip n' Paint
DESCRIPTION:Sip & Paint Workshop\nThursday | November 13th 6:30pm – 8:30pm \nJoin us for an evening of creativity and relaxation — en français et en anglais! Join us for a cozy Sip & Paint workshop\, conducted entirely in French\, where we’ll sip on wine and let our creativity flow onto the canvas. No experience needed — just come ready to unwind and have fun. You’ll leave with a beautiful piece of art to show off.\nLevel : no skill required/everyone is welcome\nLocation: Alliance Française de Los Angeles\nMember $50/Nonmembers $65 \nWorkshop Policy: Workshops and Cultural Events are non-refundable. A credit minus a $10 processing fee (valid 6 months) will be issued to your Alliance Française de Los Angeles account to be used for another workshop if you cancel in advance up to one business day prior to the workshop.\nActivity meeting dates\nThursday November 13th\nFrom 6:30 pm – 8:30 pm
URL:https://www.afdela.org/event/sip-n-paint/
LOCATION:Alliance Francaise de Los Angeles
CATEGORIES:Cultural Events,Workshops
ATTACH;FMTTYPE=image/jpeg:https://www.afdela.org/wp-content/uploads/2025/11/Adult-Flyers-900-x-600-px-3.jpg
ORGANIZER;CN="Alliance Fran%C3%A7aise de Los Angeles":MAILTO:admin@afdela.org
END:VEVENT
BEGIN:VEVENT
DTSTART;TZID=America/Los_Angeles:20251115T090000
DTEND;TZID=America/Los_Angeles:20251115T110000
DTSTAMP:20260419T195349
CREATED:20251103T035235Z
LAST-MODIFIED:20251103T035235Z
UID:10328-1763197200-1763204400@www.afdela.org
SUMMARY:Online TCF B2 Preparation
DESCRIPTION:2 HOURS ONLINE WORKSHOP led by Violaine de Landes\, TCF certified instructor \nGet ready for the TCF B2 exam with this focused prep class! You will review everything covered on the exam—listening\, reading\, grammar\, vocabulary\, speaking\, and writing! This is the perfect workshop for anyone planning to take the TCF soon. \nSaturday November 15 from 9 am to 11am
URL:https://www.afdela.org/event/online-tcf-b2-preparation/
LOCATION:Alliance Francaise de Los Angeles
CATEGORIES:Cultural Events,Workshops
ATTACH;FMTTYPE=image/jpeg:https://www.afdela.org/wp-content/uploads/2025/11/tcf-b2-prep-class-3-scaled.jpg
ORGANIZER;CN="Alliance Fran%C3%A7aise de Los Angeles":MAILTO:admin@afdela.org
END:VEVENT
BEGIN:VEVENT
DTSTART;TZID=America/Los_Angeles:20251117T160000
DTEND;TZID=America/Los_Angeles:20251117T170000
DTSTAMP:20260419T195349
CREATED:20251111T051112Z
LAST-MODIFIED:20251111T051112Z
UID:10360-1763395200-1763398800@www.afdela.org
SUMMARY:French Cinémathèque: L'histoire de Souleymane
DESCRIPTION:French Cinémathèque: L’histoire de Souleymane\nFOCUS:\nFrench Cinémathèque:\nL’histoire de Souleymane\nMonday\, November 17\n4pm PT / 5pm MT / 6pm CT / 7pm ET \nOne Film One Federation (OFOF)\, in collaboration with Telescope Film\, presents French Cinémathèque – a celebration of Francophone cinema. \nWatch L’Histoire de Souleymane on streaming and then join us for a free hosted discussion in English with Peter Debruge\, Chief Film Critic of Variety. \nFor more information and registration click here. \nNovember 2025: L’histoire de Souleymane / Souleymane’s Story (2024)\nDirector Boris Lojkine\nStarring Abou Sangare\, Nina Meurisse\, Alpha Oumar Sow\, Emmanuel Yovanie \nAfter emmigrating from Guinea\, Souleymane works as a delivery driver in Paris. Waiting for his asylum interview\, he practices the story that he will tell the French administration. However\, homelessness\, trouble at work\, financial difficulties\, and anxiety about his family in Guinea\, make it difficult to prepare\, and he worries that his asylum application will not be accepted.
URL:https://www.afdela.org/event/french-cinematheque-lhistoire-de-souleymane/
CATEGORIES:Cultural Events
ATTACH;FMTTYPE=image/png:https://www.afdela.org/wp-content/uploads/2025/11/unnamed.png
END:VEVENT
BEGIN:VEVENT
DTSTART;TZID=America/Los_Angeles:20251204T100000
DTEND;TZID=America/Los_Angeles:20251204T110000
DTSTAMP:20260419T195349
CREATED:20251108T063736Z
LAST-MODIFIED:20251108T063736Z
UID:10343-1764842400-1764846000@www.afdela.org
SUMMARY:NOTRE-DAME DE PARIS - Before the Fire: The Construction and History of Notre-Dame de Paris with Russell Kelley\, author of The Making of Paris (in English)
DESCRIPTION:NOTRE-DAME DE PARIS – Before the Fire: The Construction and History of Notre-Dame de Paris with Russell Kelley\, author of The Making of Paris\n(in English) \nIn partnership with the Alliance Française Miami Metro\, the Alliance Française de Chicago\, and the Friends of Notre-Dame de Paris\nThis event begins at 10am PT / 11am MT / 12pm CT / 1pm ET and will be IN ENGLISH \nThis illustrated lecture will explore the long and eventful history of the Cathedral of Notre-Dame de Paris\, from its foundation in 1163 to the devastating fire on April 15\, 2019\, which destroyed its attic\, roof\, and iconic spire. \nThe story of Notre-Dame de Paris begins in 1163\, when Bishop Sully laid the first stone on the Île de la Cité\, at the heart of medieval Paris. One of the earliest Gothic cathedrals\, it took 182 years to complete. Over the centuries\, this architectural marvel hosted defining moments in French history\, including the coronation of a young King Henry VI of England\, the marriage of the future Henri IV and Marguerite de Valois\, and the crowning of Napoléon I as Emperor. \nAfter falling into neglect during the Revolution\, Notre-Dame was restored by architect Eugène Viollet-le-Duc\, who added the iconic spire that tragically burned in 2019. \n\n\n\nRussell Kelley is Vice President of the Alliance Française Miami Metro and the author of The Making of Paris: The Story of How Paris Evolved from a Fishing Village into the World’s Most Beautiful City (Lyons Press\, 2021) and Walking Through the Ages of Paris – Ten Historical Walking Tours Through the City of Light (Lyons Press\, to be published in 2026). He has lived in Paris for over 30 years – and next to Notre-Dame for the past 20 years – and attended the first mass celebrated in the rebuilt cathedral on December 8\, 2024.
URL:https://www.afdela.org/event/notre-dame-de-paris-before-the-fire-the-construction-and-history-of-notre-dame-de-paris-with-russell-kelley-author-of-the-making-of-paris-in-english/
LOCATION:Virtual Room\, 6434 Hollywood Blvd\, Los Angeles\, CA\, 90028\, United States
CATEGORIES:Cultural Events,Workshops
ATTACH;FMTTYPE=image/png:https://www.afdela.org/wp-content/uploads/2025/11/Notre-Dame-de-Paris-1.png
END:VEVENT
BEGIN:VEVENT
DTSTART;TZID=America/Los_Angeles:20251204T110000
DTEND;TZID=America/Los_Angeles:20251204T123000
DTSTAMP:20260419T195349
CREATED:20250922T055458Z
LAST-MODIFIED:20250922T055542Z
UID:10318-1764846000-1764851400@www.afdela.org
SUMMARY:NETFLIX FILM [HONEYMOON CRASHER]
DESCRIPTION:NETFLIX FILM [HONEYMOON CRASHER] \nSINGLE CLASS ON DECEMBER 4\, 2025 11:00 AM – 12:30 PM : \nwith Véronique Courtois \nJoin us to discuss the film Lune de miel avec ma mère. \nParticipants are expected to watch the movie before class and answer some questions about the film. This class will focus on conversational & written skills. \nThursday December 4th \nAdvanced level & above \n$45.00 / $30.00 for members \n  \nActivity meeting dates\nThursday December 4\, 2025\, 11 am to 12:30 pm
URL:https://www.afdela.org/event/netflix-film-honeymoon-crasher/
CATEGORIES:Classes,Cultural Events,Workshops
ATTACH;FMTTYPE=image/jpeg:https://www.afdela.org/wp-content/uploads/2025/09/Lune-de-miel.jpg
ORGANIZER;CN="Alliance Fran%C3%A7aise de Los Angeles":MAILTO:admin@afdela.org
END:VEVENT
BEGIN:VEVENT
DTSTART;TZID=America/Los_Angeles:20251204T180000
DTEND;TZID=America/Los_Angeles:20251204T200000
DTSTAMP:20260419T195349
CREATED:20251103T225233Z
LAST-MODIFIED:20251103T225233Z
UID:10336-1764871200-1764878400@www.afdela.org
SUMMARY:Macaron Workshop
DESCRIPTION:Join us for an exciting macaron class using the Swiss meringue method! Perfect for all skill levels\, this hands-on workshop will teach you how to pipe these delicious French sandwich cookies. \nOur expert instructor will guide you through achieving the perfect macaron shell\, ensuring a smooth surface and delightful texture. In addition\, you’ll learn to make a delicious buttercream filling. \nExplore different techniques and variations to elevate your macarons to a professional level. \nBy the end of the class\, you’ll have the skills and confidence to create stunning and tasty macarons\, along with a box of your beautifully crafted treats to take home. \nDuration: 2 hours. 6-8PM \nWine and snacks will be served \nAddress: Petit Chou 6007 Washington blvd. Culver City CA 90232 \nParking: street parking \nActivity meeting dates\nThursday\, December 4th\, 2025 from 6 to 8 pm.
URL:https://www.afdela.org/event/macaron-workshop/
LOCATION:Petit Chou\, 6007 Washington blvd\, Culver City\, CA\, 90232\, United States
CATEGORIES:Cultural Events,Workshops
ATTACH;FMTTYPE=image/jpeg:https://www.afdela.org/wp-content/uploads/2025/11/Adult-Flyers-900-x-600-px-4.jpg
END:VEVENT
BEGIN:VEVENT
DTSTART;TZID=America/Los_Angeles:20251211T100000
DTEND;TZID=America/Los_Angeles:20251211T110000
DTSTAMP:20260419T195349
CREATED:20251108T063948Z
LAST-MODIFIED:20251108T063948Z
UID:10347-1765447200-1765450800@www.afdela.org
SUMMARY:Notre-Dame – After the Fire: La Restauration de Notre-Dame de Paris with Philippe Villeneuve\, Chief Architect of Historical Monuments and Lead Architect for Notre-Dame Cathedral (in French with English or French captions
DESCRIPTION:Notre-Dame – After the Fire: La Restauration de Notre-Dame de Paris\nwith Philippe Villeneuve\, Chief Architect of Historical Monuments and Lead Architect for Notre-Dame Cathedral\n(in French with English or French captions)\nIn partnership with the Alliance Française Miami Metro\, the Alliance Française de Chicago\, and the Friends of Notre-Dame de Paris\nThis event begins at 10am PT / 11am MT / 12pm CT / 1pm ET and will be EN FRANÇAIS. \nThis lecture will provide a behind-the-scenes look at one of the most significant architectural restoration projects of our time\, describing the painstaking process behind the meticulous rebuilding and restoration of the cathedral\, from the careful documentation of architectural elements to the revival of centuries-old craftsmanship techniques. \nThanks to global donations and the work of dedicated craftsmen\, the extensive fire damage was repaired in record time\, and the rebuilt cathedral reopened almost exactly one year ago\, ready to reclaim its place as a symbol of Paris and French heritage. \nBut wait: There is still more work to be done. The lecture will conclude with the restoration works unrelated to the damage caused by the 2019 fire that will continue for the next five years. \nThis talk will be conducted in French. When you join the Zoom event\, you can choose translated captions in either English or French. Click here for instructions on how to enable this feature.
URL:https://www.afdela.org/event/notre-dame-after-the-fire-la-restauration-de-notre-dame-de-paris-with-philippe-villeneuve-chief-architect-of-historical-monuments-and-lead-architect-for-notre-dame-cathedral-in-french-wit/
CATEGORIES:Classes,Cultural Events
ATTACH;FMTTYPE=image/png:https://www.afdela.org/wp-content/uploads/2025/11/Notre-Dame-de-Paris-2.png
END:VEVENT
BEGIN:VEVENT
DTSTART;VALUE=DATE:20251213
DTEND;VALUE=DATE:20251214
DTSTAMP:20260419T195349
CREATED:20251209T061724Z
LAST-MODIFIED:20251209T061737Z
UID:10408-1765584000-1765670399@www.afdela.org
SUMMARY:Clotilde's Book Fair
DESCRIPTION:📚🇫🇷 Mark your calendars! Clotilde’s French Book Fair is coming to the Alliance Française de Los Angeles on December 13! \nCurated with love by the amazing Clotilde — champion of French books and stories — this fair is a must for readers of all ages. From children’s favorites to literary gems\, you’ll find something to inspire your inner francophile. ✨📖 \n🗓️ Saturday\, December 13\n📍Alliance Française de Los Angeles\n📚 Books\, conversation & community — en français\, bien sûr!
URL:https://www.afdela.org/event/clotildes-book-fair/
CATEGORIES:Cultural Events
ATTACH;FMTTYPE=image/png:https://www.afdela.org/wp-content/uploads/2025/12/Adult-Flyers-900-x-600-px-2.png
END:VEVENT
BEGIN:VEVENT
DTSTART;TZID=America/Los_Angeles:20251218T100000
DTEND;TZID=America/Los_Angeles:20251218T110000
DTSTAMP:20260419T195349
CREATED:20251108T064122Z
LAST-MODIFIED:20251209T062017Z
UID:10350-1766052000-1766055600@www.afdela.org
SUMMARY:Notre-Dame – After the Fire: The Redesign of the Surroundings of Notre-Dame de Paris with Bas Smets\, Landscape Architect and Founder of Bureau Bas Smets (In English)
DESCRIPTION:Notre-Dame – After the Fire: The Redesign of the Surroundings of Notre-Dame de Paris with Bas Smets\, Landscape Architect and Founder of Bureau Bas Smets (In English)\nIn partnership with the Alliance Française Miami Metro\, the Alliance Française de Chicago\, and the Friends of Notre-Dame de Paris\nThis event begins at 10am PT / 11am MT / 12pm CT / 1pm ET and will be IN ENGLISH. \nIn 2022\, the City of Paris announced that the team led by Belgian landscape designer Bas Smets won the competition to reimagine the area surrounding Notre-Dame Cathedral. Bas Smets will describe how the team plans to redesign the square in front of Notre-Dame Cathedral and the underground parking spaces beneath it\, the Jean XXIII square located behind the cathedral\, the Seine riverbanks\, and the adjacent streets\, in order to create a microclimate to mitigate the effects of climate change. This extensive project is scheduled to begin in 2025 and end in 2030. \nThis event will be IN ENGLISH. \n\n\n\n \n\n\nSpeaker: Bas Smets received master’s degrees in Architecture and Civil Engineering from the University of Leuven and in Landscape from the University of Geneva. In 2007\, he founded Bureau Bas Smets in Brussels\, whose designs explore new ways to transform the city into an urban ecology\, capable of producing cooling microclimates to counter climate change. In addition to his design work\, Bas Smets has taught at various schools of architecture in Europe. In 2023\, he was appointed Professor in Practice at Harvard University’s Graduate School of Design. \nModerator: Russell Kelley is Vice President of the Alliance Française Miami Metro and the author of The Making of Paris (Lyons Press\, 2021) and Walking Through the Ages of Paris (Lyons Press\, to be published in 2026).
URL:https://www.afdela.org/event/notre-dame-after-the-fire-the-redesign-of-the-surroundings-of-notre-dame-de-paris-with-bas-smets-landscape-architect-and-founder-of-bureau-bas-smets-in-english/
CATEGORIES:Cultural Events,Workshops
ATTACH;FMTTYPE=image/png:https://www.afdela.org/wp-content/uploads/2025/11/Notre-Dame-de-Paris-2.png
END:VEVENT
BEGIN:VEVENT
DTSTART;TZID=America/Los_Angeles:20260113T133000
DTEND;TZID=America/Los_Angeles:20260113T150000
DTSTAMP:20260419T195349
CREATED:20260107T035735Z
LAST-MODIFIED:20260107T035735Z
UID:10420-1768311000-1768316400@www.afdela.org
SUMMARY:Sur la route des régions françaises
DESCRIPTION:Voyage autour de la France en 8 régions by Julie STERN \nIn person class\nlevel required Intermediate & up \nPack you bag to travel across eight of France’s most fascinating regions and discover how history\, geography\, tradition and tourism shape each one unique identity while enriching your vocabulary and strengthening your comprehension. \nEach class will offer a new destination to explore and a deeper understanding of the local life with practical insights and concrete tips about what to see and to do there.\nActivity meeting dates\nJanuary 13 to March 3 on Tuesdays from 1:30pm am to 3pm.
URL:https://www.afdela.org/event/sur-la-route-des-regions-francaises/
CATEGORIES:Cultural Events
ATTACH;FMTTYPE=image/jpeg:https://www.afdela.org/wp-content/uploads/2025/11/10-scaled.jpg
END:VEVENT
BEGIN:VEVENT
DTSTART;TZID=America/Los_Angeles:20260205T183000
DTEND;TZID=America/Los_Angeles:20260205T200000
DTSTAMP:20260419T195349
CREATED:20260122T055102Z
LAST-MODIFIED:20260122T055102Z
UID:10441-1770316200-1770321600@www.afdela.org
SUMMARY:Crêpe Soirée: La Chandeleur Celebration with Suzette LA
DESCRIPTION:Crêpe Soirée: La Chandeleur Celebration with Suzette LA\n\nJoin us for a delightful evening celebrating La Chandeleur\, one of France’s most cherished culinary traditions\, at our Crêpe Soirée with Suzette LA.\n\nLa Chandeleur\, celebrated every year on February 2nd\, is a traditional French holiday with both religious and cultural significance. Over time\, it has become closely associated with crêpes and convivial gatherings. According to popular French superstition\, flipping a crêpe while holding a coin is said to bring good luck and financial prosperity for the year.\n\nThe evening will begin with a short presentation exploring the history of crêpes in France\, the origins of La Chandeleur\, and the traditions surrounding this festive occasion. Following the presentation\, guests will enjoy a tasting of freshly prepared crêpes\, with wine and coffee served\, for a warm and authentic French experience.\n\nWhether you are a Francophile\, a food lover\, or simply looking for a charming cultural evening\, this celebration of La Chandeleur promises to be both informative and delicious.
URL:https://www.afdela.org/event/crepe-soiree-la-chandeleur-celebration-with-suzette-la/
LOCATION:Alliance Francaise de Los Angeles
CATEGORIES:Cultural Events
ATTACH;FMTTYPE=image/png:https://www.afdela.org/wp-content/uploads/2026/01/Copy-of-Winter-2026-Flyers-4-1.png
END:VEVENT
BEGIN:VEVENT
DTSTART;TZID=America/Los_Angeles:20260207T090000
DTEND;TZID=America/Los_Angeles:20260207T110000
DTSTAMP:20260419T195349
CREATED:20260111T064324Z
LAST-MODIFIED:20260111T064324Z
UID:10428-1770454800-1770462000@www.afdela.org
SUMMARY:Online TCF B2 Preparation
DESCRIPTION:Online TCF B2 Preparation\n\n\n2 HOURS ONLINE WORKSHOP led by Violaine de Landes\, TCF certified instructor\n \nGet ready for the TCF B2 exam with this focused prep class! You will review everything covered on the exam—listening\, reading\, grammar\, vocabulary\, speaking\, and writing! This is the perfect workshop for anyone planning to take the TCF soon. \n\n\n\nActivity meeting dates\nSaturday February 7th from 9 am to 11am
URL:https://www.afdela.org/event/online-tcf-b2-preparation-2/
LOCATION:Alliance Francaise de Los Angeles
CATEGORIES:Cultural Events
ATTACH;FMTTYPE=image/png:https://www.afdela.org/wp-content/uploads/2026/01/TCF-900-x-600-px.png
END:VEVENT
BEGIN:VEVENT
DTSTART;TZID=America/Los_Angeles:20260303T110000
DTEND;TZID=America/Los_Angeles:20260303T123000
DTSTAMP:20260419T195349
CREATED:20260107T035555Z
LAST-MODIFIED:20260107T035555Z
UID:10417-1772535600-1772541000@www.afdela.org
SUMMARY:Les Grands Magasins Parisiens
DESCRIPTION:Les Grands Magasins Parisiens – Workshop let by Veronique Courtois \nLes Galeries Lafayette\, La Samaritaine… Come and discover the history of the iconic Parisian “Grands Magasins” in these two entertaining trivia-filled workshops. \nTuesday March 3 & 10\, 2026 \nAdvanced level & above \n$90.00 / $75.00 for members \n  \nActivity meeting dates\nTuesdays March 3 & 10\, 2026\, 11 am to 12:30 pm
URL:https://www.afdela.org/event/les-grands-magasins-parisiens/
CATEGORIES:Cultural Events
ATTACH;FMTTYPE=image/jpeg:https://www.afdela.org/wp-content/uploads/2026/01/Copy-of-Winter-2026-Flyers-900-x-600-px-1.jpg
END:VEVENT
BEGIN:VEVENT
DTSTART;TZID=America/Los_Angeles:20260305T183000
DTEND;TZID=America/Los_Angeles:20260305T203000
DTSTAMP:20260419T195349
CREATED:20260205T052654Z
LAST-MODIFIED:20260205T052654Z
UID:10460-1772735400-1772742600@www.afdela.org
SUMMARY:Francophonie Celebration: Special Short Film Screening
DESCRIPTION:The Alliance Française de Los Angeles is honored to show a special screening of the short film “L’enfant à la peau blanche” (The Boy with White Skin) in celebration of le mois de la Francophonie on Thursday\, March 5 at 6:30 p.m. This captivating\, award-winning film is follows an Albino child\, entrusted by his father to a group of gold-miners\, who embodies all of their hopes. Join us for an exclusive film screening\, featuring a special presentation by Mame Toucouleur MBaye\, Honorary Consul of the Republic of Senegal\, Los Angeles\, followed by the film screening and Q&A. Guests will also be served wine alongside a curated selection of charcuterie\, cheeses\, and crackers. Written and directed by @simonpanay​Produced by @bandini_films and Astou Films Co-produced by @hkcorp and R-Lines Exclusive Short-Film Screening Thursday\, March 5\, at 6:30 p.m. Alliance Française de Los Angeles 10390 Santa Monica Blvd Suite #300 To register for this exclusive film screening\, please visit adela.org.
URL:https://www.afdela.org/event/francophonie-celebration-special-short-film-screening/
LOCATION:Alliance Francaise de Los Angeles
CATEGORIES:Cultural Events,Workshops
ATTACH;FMTTYPE=image/jpeg:https://www.afdela.org/wp-content/uploads/2026/02/Lenfant-a-la-peau-blanche-4.jpg
ORGANIZER;CN="Alliance Fran%C3%A7aise de Los Angeles":MAILTO:admin@afdela.org
END:VEVENT
BEGIN:VEVENT
DTSTART;TZID=America/Los_Angeles:20260320T140000
DTEND;TZID=America/Los_Angeles:20260320T153000
DTSTAMP:20260419T195349
CREATED:20260211T152724Z
LAST-MODIFIED:20260211T152724Z
UID:10477-1774015200-1774020600@www.afdela.org
SUMMARY:Private visit at the Hammer Museum: Mario Avati Prints
DESCRIPTION:Your guide\, who holds a Master’s in printmaking\, has reserved the Grunwald Center at the Hammer Museum for a private showing of Mario Avati prints. Avati was an extraordinary printmaker and his works are not often displayed. We will talk about his life\, influences\, technique and subject matters which include still lives and Paris. \nYou will be responsible for the parking fee remaining after validation. Let’s meet by the entrance by the parking side a little before 2 pm.\nIn French\, for advanced levels.\nFriday\, March 20th\, 2 – 3:30 pm
URL:https://www.afdela.org/event/private-visit-at-the-hammer-museum-mario-avati-prints/
LOCATION:Hammer Museum\, 10899 Wilshire Blvd\, Los Angeles\, CA\, 90024\, United States
CATEGORIES:Cultural Events
ATTACH;FMTTYPE=image/png:https://www.afdela.org/wp-content/uploads/2026/02/Mario-Avati-prints.png
END:VEVENT
BEGIN:VEVENT
DTSTART;TZID=America/Los_Angeles:20260408T183000
DTEND;TZID=America/Los_Angeles:20260408T213000
DTSTAMP:20260419T195349
CREATED:20260316T034321Z
LAST-MODIFIED:20260318T014314Z
UID:10535-1775673000-1775683800@www.afdela.org
SUMMARY:2026 Fundraising Dinner
DESCRIPTION:Dear Members and Friends of the Alliance Française de Los Angeles\,  \nAs the Alliance Française de Los Angeles shapes its next chapter\, we invite you to stand among those who help ensure its future. \nWe are pleased to introduce our Board of Directors and warmly invite you to join us for a special Fundraising Dinner bringing together our community in support of the Alliance’s mission. \nFor generations\, the Alliance has been a place where French language\, culture\, and community come together in Los Angeles. \nThis event will be an opportunity to connect\, celebrate that shared spirit\, and help sustain the programs and cultural experiences that keep our community thriving. \nWe would be honored by your presence: please visit the link below to purchase tickets. \nWith Gratitude\, \nThe Board of Directors\nAlliance Française de Los Angeles \nChair of the Board: \nCynthia Hajjar \nTreasurer: \nSteven Bushong \nSecretary: \nHelen Tartavull \nBoard Members:  \nJacklin Ajemian \nMartine Anderson \nLeann Angelich \nValerie Daneshgar \nDr Laurence Denie Higney \nDr Eric Fugier \nVeronique Maingard \nNicole Montgomery \nLeonard Steiner
URL:https://www.afdela.org/event/2026-fundraising-dinner/
LOCATION:Résidence de France
CATEGORIES:Cultural Events
ATTACH;FMTTYPE=image/jpeg:https://www.afdela.org/wp-content/uploads/2026/03/1-2.jpg
ORGANIZER;CN="Alliance Fran%C3%A7aise de Los Angeles":MAILTO:admin@afdela.org
END:VEVENT
BEGIN:VEVENT
DTSTART;TZID=America/Los_Angeles:20260423T183000
DTEND;TZID=America/Los_Angeles:20260423T200000
DTSTAMP:20260419T195349
CREATED:20260310T034347Z
LAST-MODIFIED:20260402T023144Z
UID:10531-1776969000-1776974400@www.afdela.org
SUMMARY:Crafting Culinary Excellence with a Le Cordon Bleu chef
DESCRIPTION:TICKETS: https://anc.apm.activecommunities.com/alliancefrancaisela/activity/search/detail/9056?onlineSiteId=0&from_original_cui=true \nJoin us for Crafting Culinary Excellence: A Conversation with a Le Cordon Bleu Chef\, an exclusive opportunity to gain insight into the artistry\, discipline\, and professional journey behind one of the world’s most respected culinary traditions. \nChef Sebastian Rast – Cuisine Instructor at Le Cordon Bleu London. A chef with extensive experience in fine dining kitchens\, including Michelin star establishments. \nMatthieu Longuère – Wine Development Manager at Le Cordon Bleu London. Named Best Sommelier in the UK in 2000\, with experience across several top restaurants\, including Michelin star venues. \nExcite your taste buds with an assortment of charcuterie and wine as you learn about the art of food and wine pairings and the magic that happens when the two are combined. \nCome for the conversation\, stay for the flavors\, and connect with fellow food lovers in an intimate setting. \nAn evening of insight\, inspiration\, and unforgettable tastes awaits. \nTickets at afdela.org \n\n\nPricing:\n\n$40 for members\n$45 for non-members\n\n\n\n\nActivity meeting dates\nThursday April 23rd From 6:30 pm – 8:00 pm
URL:https://www.afdela.org/event/crafting-culinary-excellence-with-a-le-cordon-bleu-chef/
LOCATION:Alliance Francaise de Los Angeles
CATEGORIES:Cultural Events
ATTACH;FMTTYPE=image/png:https://www.afdela.org/wp-content/uploads/2026/03/4.png
ORGANIZER;CN="Alliance Fran%C3%A7aise de Los Angeles":MAILTO:admin@afdela.org
END:VEVENT
END:VCALENDAR