BEGIN:VCALENDAR
VERSION:2.0
PRODID:-//Alliance Française de Los Angeles - ECPv6.15.9//NONSGML v1.0//EN
CALSCALE:GREGORIAN
METHOD:PUBLISH
X-ORIGINAL-URL:https://www.afdela.org
X-WR-CALDESC:Events for Alliance Française de Los Angeles
REFRESH-INTERVAL;VALUE=DURATION:PT1H
X-Robots-Tag:noindex
X-PUBLISHED-TTL:PT1H
BEGIN:VTIMEZONE
TZID:America/Los_Angeles
BEGIN:DAYLIGHT
TZOFFSETFROM:-0800
TZOFFSETTO:-0700
TZNAME:PDT
DTSTART:20240310T100000
END:DAYLIGHT
BEGIN:STANDARD
TZOFFSETFROM:-0700
TZOFFSETTO:-0800
TZNAME:PST
DTSTART:20241103T090000
END:STANDARD
BEGIN:DAYLIGHT
TZOFFSETFROM:-0800
TZOFFSETTO:-0700
TZNAME:PDT
DTSTART:20250309T100000
END:DAYLIGHT
BEGIN:STANDARD
TZOFFSETFROM:-0700
TZOFFSETTO:-0800
TZNAME:PST
DTSTART:20251102T090000
END:STANDARD
BEGIN:DAYLIGHT
TZOFFSETFROM:-0800
TZOFFSETTO:-0700
TZNAME:PDT
DTSTART:20260308T100000
END:DAYLIGHT
BEGIN:STANDARD
TZOFFSETFROM:-0700
TZOFFSETTO:-0800
TZNAME:PST
DTSTART:20261101T090000
END:STANDARD
END:VTIMEZONE
BEGIN:VEVENT
DTSTART;TZID=America/Los_Angeles:20251211T100000
DTEND;TZID=America/Los_Angeles:20251211T110000
DTSTAMP:20260419T060939
CREATED:20251108T063948Z
LAST-MODIFIED:20251108T063948Z
UID:10347-1765447200-1765450800@www.afdela.org
SUMMARY:Notre-Dame – After the Fire: La Restauration de Notre-Dame de Paris with Philippe Villeneuve\, Chief Architect of Historical Monuments and Lead Architect for Notre-Dame Cathedral (in French with English or French captions
DESCRIPTION:Notre-Dame – After the Fire: La Restauration de Notre-Dame de Paris\nwith Philippe Villeneuve\, Chief Architect of Historical Monuments and Lead Architect for Notre-Dame Cathedral\n(in French with English or French captions)\nIn partnership with the Alliance Française Miami Metro\, the Alliance Française de Chicago\, and the Friends of Notre-Dame de Paris\nThis event begins at 10am PT / 11am MT / 12pm CT / 1pm ET and will be EN FRANÇAIS. \nThis lecture will provide a behind-the-scenes look at one of the most significant architectural restoration projects of our time\, describing the painstaking process behind the meticulous rebuilding and restoration of the cathedral\, from the careful documentation of architectural elements to the revival of centuries-old craftsmanship techniques. \nThanks to global donations and the work of dedicated craftsmen\, the extensive fire damage was repaired in record time\, and the rebuilt cathedral reopened almost exactly one year ago\, ready to reclaim its place as a symbol of Paris and French heritage. \nBut wait: There is still more work to be done. The lecture will conclude with the restoration works unrelated to the damage caused by the 2019 fire that will continue for the next five years. \nThis talk will be conducted in French. When you join the Zoom event\, you can choose translated captions in either English or French. Click here for instructions on how to enable this feature.
URL:https://www.afdela.org/event/notre-dame-after-the-fire-la-restauration-de-notre-dame-de-paris-with-philippe-villeneuve-chief-architect-of-historical-monuments-and-lead-architect-for-notre-dame-cathedral-in-french-wit/
CATEGORIES:Classes,Cultural Events
ATTACH;FMTTYPE=image/png:https://www.afdela.org/wp-content/uploads/2025/11/Notre-Dame-de-Paris-2.png
END:VEVENT
END:VCALENDAR