BEGIN:VCALENDAR
VERSION:2.0
PRODID:-//Alliance Française de Los Angeles - ECPv6.15.9//NONSGML v1.0//EN
CALSCALE:GREGORIAN
METHOD:PUBLISH
X-ORIGINAL-URL:https://www.afdela.org
X-WR-CALDESC:Events for Alliance Française de Los Angeles
REFRESH-INTERVAL;VALUE=DURATION:PT1H
X-Robots-Tag:noindex
X-PUBLISHED-TTL:PT1H
BEGIN:VTIMEZONE
TZID:America/Los_Angeles
BEGIN:DAYLIGHT
TZOFFSETFROM:-0800
TZOFFSETTO:-0700
TZNAME:PDT
DTSTART:20240310T100000
END:DAYLIGHT
BEGIN:STANDARD
TZOFFSETFROM:-0700
TZOFFSETTO:-0800
TZNAME:PST
DTSTART:20241103T090000
END:STANDARD
BEGIN:DAYLIGHT
TZOFFSETFROM:-0800
TZOFFSETTO:-0700
TZNAME:PDT
DTSTART:20250309T100000
END:DAYLIGHT
BEGIN:STANDARD
TZOFFSETFROM:-0700
TZOFFSETTO:-0800
TZNAME:PST
DTSTART:20251102T090000
END:STANDARD
BEGIN:DAYLIGHT
TZOFFSETFROM:-0800
TZOFFSETTO:-0700
TZNAME:PDT
DTSTART:20260308T100000
END:DAYLIGHT
BEGIN:STANDARD
TZOFFSETFROM:-0700
TZOFFSETTO:-0800
TZNAME:PST
DTSTART:20261101T090000
END:STANDARD
END:VTIMEZONE
BEGIN:VEVENT
DTSTART;VALUE=DATE:20251113
DTEND;VALUE=DATE:20251114
DTSTAMP:20260419T073011
CREATED:20250922T055301Z
LAST-MODIFIED:20250922T055301Z
UID:10316-1762992000-1763078399@www.afdela.org
SUMMARY:NETFLIX FILM [I'M NOT AN EASY MAN]
DESCRIPTION:NETFLIX FILM [I’M NOT AN EASY MAN] \nSINGLE CLASS ON NOVEMBER 13\, 2025 11:00 AM – 12:30 PM : \nwith Véronique Courtois \nJoin us to discuss the film Je ne suis pas un homme facile. \nParticipants are expected to watch the movie before class and answer some questions about the film. This class will focus on conversational & written skills. \nThursday November 13th \nAdvanced level & above \n$45.00 / $30.00 for members \n  \nActivity meeting dates\nThursday November 13\, 2025\, 11 am to 12:30 pm
URL:https://www.afdela.org/event/netflix-film-im-not-an-easy-man/
CATEGORIES:Cultural Events,Workshops
ATTACH;FMTTYPE=image/jpeg:https://www.afdela.org/wp-content/uploads/2025/09/Je-ne-suis-pas-un-homme-facile.jpg
ORGANIZER;CN="Alliance Fran%C3%A7aise de Los Angeles":MAILTO:admin@afdela.org
END:VEVENT
BEGIN:VEVENT
DTSTART;TZID=America/Los_Angeles:20251113T183000
DTEND;TZID=America/Los_Angeles:20251113T203000
DTSTAMP:20260419T073011
CREATED:20251103T035609Z
LAST-MODIFIED:20251103T035609Z
UID:10332-1763058600-1763065800@www.afdela.org
SUMMARY:Sip n' Paint
DESCRIPTION:Sip & Paint Workshop\nThursday | November 13th 6:30pm – 8:30pm \nJoin us for an evening of creativity and relaxation — en français et en anglais! Join us for a cozy Sip & Paint workshop\, conducted entirely in French\, where we’ll sip on wine and let our creativity flow onto the canvas. No experience needed — just come ready to unwind and have fun. You’ll leave with a beautiful piece of art to show off.\nLevel : no skill required/everyone is welcome\nLocation: Alliance Française de Los Angeles\nMember $50/Nonmembers $65 \nWorkshop Policy: Workshops and Cultural Events are non-refundable. A credit minus a $10 processing fee (valid 6 months) will be issued to your Alliance Française de Los Angeles account to be used for another workshop if you cancel in advance up to one business day prior to the workshop.\nActivity meeting dates\nThursday November 13th\nFrom 6:30 pm – 8:30 pm
URL:https://www.afdela.org/event/sip-n-paint/
LOCATION:Alliance Francaise de Los Angeles
CATEGORIES:Cultural Events,Workshops
ATTACH;FMTTYPE=image/jpeg:https://www.afdela.org/wp-content/uploads/2025/11/Adult-Flyers-900-x-600-px-3.jpg
ORGANIZER;CN="Alliance Fran%C3%A7aise de Los Angeles":MAILTO:admin@afdela.org
END:VEVENT
END:VCALENDAR