BEGIN:VCALENDAR
VERSION:2.0
PRODID:-//Alliance Française de Los Angeles - ECPv6.15.9//NONSGML v1.0//EN
CALSCALE:GREGORIAN
METHOD:PUBLISH
X-WR-CALNAME:Alliance Française de Los Angeles
X-ORIGINAL-URL:https://www.afdela.org
X-WR-CALDESC:Events for Alliance Française de Los Angeles
REFRESH-INTERVAL;VALUE=DURATION:PT1H
X-Robots-Tag:noindex
X-PUBLISHED-TTL:PT1H
BEGIN:VTIMEZONE
TZID:America/Los_Angeles
BEGIN:DAYLIGHT
TZOFFSETFROM:-0800
TZOFFSETTO:-0700
TZNAME:PDT
DTSTART:20240310T100000
END:DAYLIGHT
BEGIN:STANDARD
TZOFFSETFROM:-0700
TZOFFSETTO:-0800
TZNAME:PST
DTSTART:20241103T090000
END:STANDARD
BEGIN:DAYLIGHT
TZOFFSETFROM:-0800
TZOFFSETTO:-0700
TZNAME:PDT
DTSTART:20250309T100000
END:DAYLIGHT
BEGIN:STANDARD
TZOFFSETFROM:-0700
TZOFFSETTO:-0800
TZNAME:PST
DTSTART:20251102T090000
END:STANDARD
BEGIN:DAYLIGHT
TZOFFSETFROM:-0800
TZOFFSETTO:-0700
TZNAME:PDT
DTSTART:20260308T100000
END:DAYLIGHT
BEGIN:STANDARD
TZOFFSETFROM:-0700
TZOFFSETTO:-0800
TZNAME:PST
DTSTART:20261101T090000
END:STANDARD
END:VTIMEZONE
BEGIN:VEVENT
DTSTART;VALUE=DATE:20251103
DTEND;VALUE=DATE:20251104
DTSTAMP:20260419T072726
CREATED:20250922T055156Z
LAST-MODIFIED:20250922T055156Z
UID:10314-1762128000-1762214399@www.afdela.org
SUMMARY:NETFLIX SERIES SOLEIL NOIR [UNDER A DARK SUN]
DESCRIPTION:NETFLIX SERIES SOLEIL NOIR [UNDER A DARK SUN] \n6-WEEKS ONLINE THEMATIC CLASS : \nwith Véronique Courtois \nJoin us to discuss the series Soleil Noir a 6 episode series featuring Isabelle Adjani. \nParticipants will be expected to watch one episode before class and answer some questions about the episode. This class will focus on conversational & written skills. \nMondays: November 3rd\, 10th\, 17th & 24th; December 1st and 8th\, 2025 at 11 am to 12:30 pm. \nAdvanced level & above \n  \nActivity meeting dates\nFrom November 3rd through December 8th\, 2025\, 11 am to 12:30 pm.
URL:https://www.afdela.org/event/netflix-series-soleil-noir-under-a-dark-sun/
CATEGORIES:Classes,Cultural Events,Workshops
ATTACH;FMTTYPE=image/jpeg:https://www.afdela.org/wp-content/uploads/2025/09/SOleil-Noir.jpg
ORGANIZER;CN="Alliance Fran%C3%A7aise de Los Angeles":MAILTO:admin@afdela.org
END:VEVENT
END:VCALENDAR