BEGIN:VCALENDAR
VERSION:2.0
PRODID:-//Alliance Française de Los Angeles - ECPv6.15.9//NONSGML v1.0//EN
CALSCALE:GREGORIAN
METHOD:PUBLISH
X-WR-CALNAME:Alliance Française de Los Angeles
X-ORIGINAL-URL:https://www.afdela.org
X-WR-CALDESC:Events for Alliance Française de Los Angeles
REFRESH-INTERVAL;VALUE=DURATION:PT1H
X-Robots-Tag:noindex
X-PUBLISHED-TTL:PT1H
BEGIN:VTIMEZONE
TZID:America/Los_Angeles
BEGIN:DAYLIGHT
TZOFFSETFROM:-0800
TZOFFSETTO:-0700
TZNAME:PDT
DTSTART:20240310T100000
END:DAYLIGHT
BEGIN:STANDARD
TZOFFSETFROM:-0700
TZOFFSETTO:-0800
TZNAME:PST
DTSTART:20241103T090000
END:STANDARD
BEGIN:DAYLIGHT
TZOFFSETFROM:-0800
TZOFFSETTO:-0700
TZNAME:PDT
DTSTART:20250309T100000
END:DAYLIGHT
BEGIN:STANDARD
TZOFFSETFROM:-0700
TZOFFSETTO:-0800
TZNAME:PST
DTSTART:20251102T090000
END:STANDARD
BEGIN:DAYLIGHT
TZOFFSETFROM:-0800
TZOFFSETTO:-0700
TZNAME:PDT
DTSTART:20260308T100000
END:DAYLIGHT
BEGIN:STANDARD
TZOFFSETFROM:-0700
TZOFFSETTO:-0800
TZNAME:PST
DTSTART:20261101T090000
END:STANDARD
END:VTIMEZONE
BEGIN:VEVENT
DTSTART;TZID=America/Los_Angeles:20250310T110000
DTEND;TZID=America/Los_Angeles:20250421T123000
DTSTAMP:20260422T103535
CREATED:20250218T024612Z
LAST-MODIFIED:20250417T180806Z
UID:10003-1741604400-1745238600@www.afdela.org
SUMMARY:From Script to Screen!
DESCRIPTION:To All Admirers of the French Actress Audrey Tautou!\nJoin Véronique Courtois to explore a cinematic journey with Audrey Tautou!\nThis workshop will combine readings of the screenplay of the movie HORS DE PRIX/ PRICELESS starring Audrey Tautou and Gad Elmaleh and discussions of the film version [Free on Amazon.com with a Prime subscription or $3.99 without a subscription]. \nWorkshop in French\nAdvanced level recommended\nActivity meeting dates\nFrom Monday March 10 to April 21 2025 \n*Meets every Monday \n11:00 a.m. to 12:30 p.m.
URL:https://www.afdela.org/event/from-script-to-screen/
LOCATION:Alliance Francaise de Los Angeles
CATEGORIES:Cultural Events,Workshops
ORGANIZER;CN="Alliance Fran%C3%A7aise de Los Angeles":MAILTO:admin@afdela.org
END:VEVENT
END:VCALENDAR